BEGIN:VCALENDAR
VERSION:2.0
PRODID:-//Energies Services France - ECPv6.15.11//NONSGML v1.0//EN
CALSCALE:GREGORIAN
METHOD:PUBLISH
X-ORIGINAL-URL:https://energies-services-france.fr
X-WR-CALDESC:Évènements pour Energies Services France
REFRESH-INTERVAL;VALUE=DURATION:PT1H
X-Robots-Tag:noindex
X-PUBLISHED-TTL:PT1H
BEGIN:VTIMEZONE
TZID:Europe/Paris
BEGIN:DAYLIGHT
TZOFFSETFROM:+0100
TZOFFSETTO:+0200
TZNAME:CEST
DTSTART:20230326T010000
END:DAYLIGHT
BEGIN:STANDARD
TZOFFSETFROM:+0200
TZOFFSETTO:+0100
TZNAME:CET
DTSTART:20231029T010000
END:STANDARD
BEGIN:DAYLIGHT
TZOFFSETFROM:+0100
TZOFFSETTO:+0200
TZNAME:CEST
DTSTART:20240331T010000
END:DAYLIGHT
BEGIN:STANDARD
TZOFFSETFROM:+0200
TZOFFSETTO:+0100
TZNAME:CET
DTSTART:20241027T010000
END:STANDARD
BEGIN:DAYLIGHT
TZOFFSETFROM:+0100
TZOFFSETTO:+0200
TZNAME:CEST
DTSTART:20250330T010000
END:DAYLIGHT
BEGIN:STANDARD
TZOFFSETFROM:+0200
TZOFFSETTO:+0100
TZNAME:CET
DTSTART:20251026T010000
END:STANDARD
BEGIN:DAYLIGHT
TZOFFSETFROM:+0100
TZOFFSETTO:+0200
TZNAME:CEST
DTSTART:20260329T010000
END:DAYLIGHT
BEGIN:STANDARD
TZOFFSETFROM:+0200
TZOFFSETTO:+0100
TZNAME:CET
DTSTART:20261025T010000
END:STANDARD
END:VTIMEZONE
BEGIN:VEVENT
DTSTART;VALUE=DATE:20251030
DTEND;VALUE=DATE:20251104
DTSTAMP:20260419T175836
CREATED:20251009T155255Z
LAST-MODIFIED:20251009T160303Z
UID:7516-1761782400-1762214399@energies-services-france.fr
SUMMARY:Salon du Mieux-Vivre 2025
DESCRIPTION:Du 30 octobre au 3 novembre 2025\, retrouvez nous sur notre stand S22 dans le Hall A de Rochexpo à La Roche-sur-Foron
URL:https://energies-services-france.fr/evenement/salon-du-mieux-vivre-2025/
END:VEVENT
BEGIN:VEVENT
DTSTART;VALUE=DATE:20250703
DTEND;VALUE=DATE:20250707
DTSTAMP:20260419T175836
CREATED:20250618T081847Z
LAST-MODIFIED:20250618T081857Z
UID:7355-1751500800-1751846399@energies-services-france.fr
SUMMARY:Portes ouvertes “Les jours fous”
DESCRIPTION:Du jeudi 3 au dimanche 6 juillet 2025\, Énergies Services France organise des journées portes ouvertes complètement “folles” avec des prix de “dingues” sur les panneaux photovoltaïques…\nUne occasion exceptionnelle de réduire votre facture d’électricité en produisant votre énergie.
URL:https://energies-services-france.fr/evenement/portes-ouvertes-les-jours-fous/
LOCATION:Énergies Services France\, 83 avenue des Jourdies\, Saint-Pierre en Faucigny\, 74800\, France
END:VEVENT
BEGIN:VEVENT
DTSTART;VALUE=DATE:20250607
DTEND;VALUE=DATE:20250608
DTSTAMP:20260419T175836
CREATED:20250512T132940Z
LAST-MODIFIED:20250512T133507Z
UID:7240-1749254400-1749340799@energies-services-france.fr
SUMMARY:Grande Braderie des Commerçants du Pays Rochois
DESCRIPTION:Retrouvez la “Team Colibri” Énergies Services France à La Roche sur Foron lors de la Grande Braderie des Commerçants du Pays Rochois toute la journée du 7 juin
URL:https://energies-services-france.fr/evenement/grande-braderie-des-commercants-du-pays-rochois/
LOCATION:La Roche sur Foron\, Parking Andrevetan\, La Roche sur Foron\, 74800\, France
END:VEVENT
BEGIN:VEVENT
DTSTART;TZID=Europe/Paris:20250501T100000
DTEND;TZID=Europe/Paris:20250511T180000
DTSTAMP:20260419T175836
CREATED:20250403T061719Z
LAST-MODIFIED:20250403T061719Z
UID:7198-1746093600-1746986400@energies-services-france.fr
SUMMARY:Foire Internationale 2025
DESCRIPTION:Retrouvez la “Team Colibri” Énergies Services France sur la Foire Internationale organisée par Rochexpo à La Roche sur Foron. \nHall B1 – Stand L06
URL:https://energies-services-france.fr/evenement/foire-internationale-2025/
LOCATION:Rochexpo\, 59 rue des centaures\, La Roche sur Foron\, France
END:VEVENT
BEGIN:VEVENT
DTSTART;TZID=Europe/Paris:20250404T100000
DTEND;TZID=Europe/Paris:20250406T180000
DTSTAMP:20260419T175836
CREATED:20250403T061914Z
LAST-MODIFIED:20250403T061914Z
UID:7201-1743760800-1743962400@energies-services-france.fr
SUMMARY:27ème journées de l'Habitat à Rumilly
DESCRIPTION:Retrouvez la “Team Colibri” Énergies Services France au 27ème journées de l’Habitat à Rumilly
URL:https://energies-services-france.fr/evenement/27eme-journees-de-lhabitat-a-rumilly/
END:VEVENT
BEGIN:VEVENT
DTSTART;VALUE=DATE:20250123
DTEND;VALUE=DATE:20250127
DTSTAMP:20260419T175836
CREATED:20250114T080710Z
LAST-MODIFIED:20250114T080710Z
UID:7008-1737590400-1737935999@energies-services-france.fr
SUMMARY:Les Journées de l'Énergie 2025
DESCRIPTION:Du jeudi 23 au dimanche 26 janvier\, retrouvez la “Team Colibri” Énergies Services France lors des portes ouvertes “Journées de l’Énergie”…\nRendez-vous de 10h à 18h dans notre show-room situé 83 avenue des Jourdies à Saint-Pierre en Faucigny.
URL:https://energies-services-france.fr/evenement/les-journees-de-lenergie-2025/
LOCATION:Énergies Services France\, 83 avenue des Jourdies\, Saint-Pierre en Faucigny\, 74800\, France
END:VEVENT
BEGIN:VEVENT
DTSTART;VALUE=DATE:20240620
DTEND;VALUE=DATE:20240624
DTSTAMP:20260419T175836
CREATED:20240612T071613Z
LAST-MODIFIED:20240612T071625Z
UID:5851-1718841600-1719187199@energies-services-france.fr
SUMMARY:Les Journées de l'Énergie
DESCRIPTION:Du jeudi 20 au dimanche 23 juin\, retrouvez la “Team Colibri” Énergies Services France lors des portes ouvertes “Journées de l’Énergie”…\nRendez-vous de 10h à 18h dans notre show-room situé 83 avenue des Jourdies à Saint-Pierre en Faucigny.
URL:https://energies-services-france.fr/evenement/les-journees-de-lenergie/
LOCATION:Énergies Services France\, 83 avenue des Jourdies\, Saint-Pierre en Faucigny\, 74800\, France
END:VEVENT
BEGIN:VEVENT
DTSTART;TZID=Europe/Paris:20240601T080000
DTEND;TZID=Europe/Paris:20240601T170000
DTSTAMP:20260419T175836
CREATED:20240514T084111Z
LAST-MODIFIED:20240514T084425Z
UID:5258-1717228800-1717261200@energies-services-france.fr
SUMMARY:Grande Braderie commerçante de La Roche sur Foron
DESCRIPTION:
URL:https://energies-services-france.fr/evenement/grande-braderie-commercante-de-la-roche-sur-foron/
END:VEVENT
BEGIN:VEVENT
DTSTART;TZID=Europe/Paris:20240512T080000
DTEND;TZID=Europe/Paris:20240512T170000
DTSTAMP:20260419T175836
CREATED:20240514T084025Z
LAST-MODIFIED:20240514T084025Z
UID:5256-1715500800-1715533200@energies-services-france.fr
SUMMARY:Foire de la R'Biolle
DESCRIPTION:
URL:https://energies-services-france.fr/evenement/foire-de-la-rbiolle/
END:VEVENT
BEGIN:VEVENT
DTSTART;TZID=Europe/Paris:20240427T100000
DTEND;TZID=Europe/Paris:20240506T170000
DTSTAMP:20260419T175836
CREATED:20240514T083956Z
LAST-MODIFIED:20240514T083956Z
UID:5254-1714212000-1715014800@energies-services-france.fr
SUMMARY:Foire Internationale Haute-Savoie Mont-Blanc
DESCRIPTION:
URL:https://energies-services-france.fr/evenement/foire-internationale-haute-savoie-mont-blanc/
END:VEVENT
BEGIN:VEVENT
DTSTART;TZID=Europe/Paris:20240420T080000
DTEND;TZID=Europe/Paris:20240420T170000
DTSTAMP:20260419T175836
CREATED:20240514T083902Z
LAST-MODIFIED:20240514T083902Z
UID:5252-1713600000-1713632400@energies-services-france.fr
SUMMARY:Foire de Viuz-en-Sallaz
DESCRIPTION:
URL:https://energies-services-france.fr/evenement/foire-de-viuz-en-sallaz/
END:VEVENT
BEGIN:VEVENT
DTSTART;TZID=Europe/Paris:20240405T100000
DTEND;TZID=Europe/Paris:20240407T170000
DTSTAMP:20260419T175836
CREATED:20240514T083825Z
LAST-MODIFIED:20240514T083825Z
UID:5250-1712311200-1712509200@energies-services-france.fr
SUMMARY:Salon de l'habitat de Rumilly
DESCRIPTION:
URL:https://energies-services-france.fr/evenement/salon-de-lhabitat-de-rumilly/
END:VEVENT
BEGIN:VEVENT
DTSTART;TZID=Europe/Paris:20240314T100000
DTEND;TZID=Europe/Paris:20240317T170000
DTSTAMP:20260419T175836
CREATED:20240514T083731Z
LAST-MODIFIED:20240514T083731Z
UID:5248-1710410400-1710694800@energies-services-france.fr
SUMMARY:Journées de l'Énergie
DESCRIPTION:
URL:https://energies-services-france.fr/evenement/journees-de-lenergie/
END:VEVENT
END:VCALENDAR